BEGIN:VCALENDAR
VERSION:2.0
PRODID:EVENTFROG//EVENT//ICAL
BEGIN:VEVENT
UID:20260425T232503Z-7448010816731777668@eventfrog.ch
DTSTAMP:20260425T232503Z
DTSTART:20260425T180000Z
SUMMARY:Record Release Konzert: Mystery Art Orchestra & Trauerberg
DESCRIPTION:Mystery Art Orchestra spielen ihr neues Album «Love» mit Support von Trauerberg am 25.4. im Haus der Offiziere Brandenburg. Die Konzertkarte beinhaltet den Eintritt für die anschließende Mixtape Party\n\nhttps://eventfrog.ch/de/p/konzerte/pop-rock/record-release-konzert-mystery-art-orchestra-trauerberg-7448010816731777668.html
LOCATION:Haus der Offiziere
GEO:52.412465;12.539366
URL:https://eventfrog.ch/de/p/konzerte/pop-rock/record-release-konzert-mystery-art-orchestra-trauerberg-7448010816731777668.html
END:VEVENT
END:VCALENDAR