BEGIN:VCALENDAR
VERSION:2.0
PRODID:EVENTFROG//EVENT//ICAL
BEGIN:VEVENT
UID:20260420T071458Z-7448127889634010245@eventfrog.ch
DTSTAMP:20260420T071458Z
DTSTART:20260916T180000Z
DTEND:20260916T200000Z
SUMMARY:Pubquiz@fabriggli
DESCRIPTION:Es ist Pubquiz-Time! Wissen ist Spass -Nichtwissen auch!\n\nhttps://eventfrog.ch/de/p/diverses/pubquiz-fabriggli-7448127889634010245.html
LOCATION:fabriggli, werdenberger kleintheater
GEO:47.162967;9.471131
URL:https://eventfrog.ch/de/p/diverses/pubquiz-fabriggli-7448127889634010245.html
END:VEVENT
END:VCALENDAR