BEGIN:VCALENDAR
VERSION:2.0
PRODID:EVENTFROG//EVENT//ICAL
BEGIN:VEVENT
UID:20260419T170544Z-7448263913089566203@eventfrog.ch
DTSTAMP:20260419T170544Z
DTSTART:20260504T070000Z
DTEND:20260731T140000Z
SUMMARY:Projektmanagement Grundlagen
DESCRIPTION:Sie erlernen die Grundlagen des Projektmanagements und erhalten das Basiszertifikat Projektmanagement. Ideal für Einsteiger und Personen, die ihre Kompetenzen ausbauen möchten.\n\nhttps://eventfrog.ch/de/p/kurse-seminare/berufliche-bildung/projektmanagement-grundlagen-7448263913089566203.html
LOCATION:E-Learning
URL:https://eventfrog.ch/de/p/kurse-seminare/berufliche-bildung/projektmanagement-grundlagen-7448263913089566203.html
END:VEVENT
END:VCALENDAR