BEGIN:VCALENDAR
VERSION:2.0
PRODID:EVENTFROG//EVENT//ICAL
BEGIN:VEVENT
UID:20260424T202106Z-7448292831129501869@eventfrog.ch
DTSTAMP:20260424T202106Z
DTSTART:20261024T183000Z
DTEND:20261024T201500Z
SUMMARY:Digital Daddy (auf Deutsch)
DESCRIPTION:Comedian Benjamin Delahaye seziert die Absurdität einer Welt, in der uns Technologie eigentlich näherbringen sollte – und uns stattdessen isolierter gemacht hat als je zuvor.\n\nhttps://eventfrog.ch/de/p/theater-buehne/comedy-kabarett/digital-daddy-auf-deutsch-7448292831129501869.html
LOCATION:The Beast Basel Comedy Club
GEO:47.556046;7.589448
URL:https://eventfrog.ch/de/p/theater-buehne/comedy-kabarett/digital-daddy-auf-deutsch-7448292831129501869.html
END:VEVENT
END:VCALENDAR