BEGIN:VCALENDAR
VERSION:2.0
PRODID:EVENTFROG//EVENT//ICAL
BEGIN:VEVENT
UID:20260425T155830Z-7448477072786222693@eventfrog.ch
DTSTAMP:20260425T155830Z
DTSTART:20260426T070000Z
DTEND:20260426T140000Z
SUMMARY:1. Steingauer Ortsflohmarkt
DESCRIPTION:1. Steinhauer Ortsflohmarkt am 26. April 2026 von 9 bis 16 Uhr\n\nTrödel, Schätze & Raritäten im ganzen Ort!\nKommt vorbei und stöbert!\nFür Snacks und Getränke ist gesorgt!\n\nhttps://eventfrog.ch/de/p/maerkte/flohmarkt/1-steingauer-ortsflohmarkt-7448477072786222693.html
LOCATION:Steingau
GEO:47.901480;11.632667
URL:https://eventfrog.ch/de/p/maerkte/flohmarkt/1-steingauer-ortsflohmarkt-7448477072786222693.html
END:VEVENT
END:VCALENDAR