BEGIN:VCALENDAR
VERSION:2.0
PRODID:EVENTFROG//EVENT//ICAL
BEGIN:VEVENT
UID:20260419T155226Z-7448659258042807782@eventfrog.ch
DTSTAMP:20260419T155226Z
DTSTART:20260927T120000Z
SUMMARY:Malen inmitten Alpakas
DESCRIPTION:Kreative Auszeit auf der Weide\n\n\nhttps://eventfrog.ch/de/p/kunst-ausstellungen/weitere-kunstveranstaltungen/malen-inmitten-alpakas-7448659258042807782.html
LOCATION:Schlösslihof
GEO:47.268716;8.718141
URL:https://eventfrog.ch/de/p/kunst-ausstellungen/weitere-kunstveranstaltungen/malen-inmitten-alpakas-7448659258042807782.html
END:VEVENT
END:VCALENDAR