BEGIN:VCALENDAR
VERSION:2.0
PRODID:EVENTFROG//EVENT//ICAL
BEGIN:VEVENT
UID:20260424T064955Z-7449017225149738260@eventfrog.ch
DTSTAMP:20260424T064955Z
DTSTART:20260515T200000Z
DTEND:20260516T003000Z
SUMMARY:Aster* Party by PolyUniQue [queer student party]
DESCRIPTION:Queer Student Party for queer people and friends, time to spend an unforgettable night together and party to good music and great vibes!\n\nhttps://eventfrog.ch/de/p/partys/studentenparty/aster-party-by-polyunique-queer-student-party-7449017225149738260.html
LOCATION:ETH CAB D21
GEO:47.378671;8.548374
URL:https://eventfrog.ch/de/p/partys/studentenparty/aster-party-by-polyunique-queer-student-party-7449017225149738260.html
END:VEVENT
END:VCALENDAR