BEGIN:VCALENDAR
VERSION:2.0
PRODID:EVENTFROG//EVENT//ICAL
BEGIN:VEVENT
UID:20260425T233201Z-7449018446153567171@eventfrog.ch
DTSTAMP:20260425T233201Z
DTSTART:20260502T080000Z
DTEND:20260502T090000Z
SUMMARY:Gedankenstreiche vor Mittag
DESCRIPTION:Stefan Brotbeck formuliert und visualisiert jeweils einen Denkimpuls, der zum Weiter- und Umdenken anregen kann. Der Denkimpuls am Vormittag ist eine philosophische Improvisation in Echtzeit.\n\nhttps://eventfrog.ch/de/p/fuehrungen-vortraege/vortrag/gedankenstreiche-vor-mittag-7449018446153567171.html
LOCATION:Online-Event
URL:https://eventfrog.ch/de/p/fuehrungen-vortraege/vortrag/gedankenstreiche-vor-mittag-7449018446153567171.html
END:VEVENT
END:VCALENDAR