BEGIN:VCALENDAR
VERSION:2.0
PRODID:EVENTFROG//EVENT//ICAL
BEGIN:VEVENT
UID:20260420T072631Z-7449079755461147300@eventfrog.ch
DTSTAMP:20260420T072631Z
DTSTART:20260509T190000Z
DTEND:20260510T000000Z
SUMMARY:VermiXed nochmal mit DJ Ralf
DESCRIPTION:DJ Ralf lädt euch auf eine Reise durch verschiedene Musikgenres ein, von Rock bis HipHop, mit einem Mix aus 80ern bis zu den aktuellen Charts. Freut euch auf eine vielfältige Auswahl!\n\nhttps://eventfrog.ch/de/p/partys/pop-rock/vermixed-nochmal-mit-dj-ralf-7449079755461147300.html
LOCATION:Belinda Discothek
GEO:49.004142;9.496766
URL:https://eventfrog.ch/de/p/partys/pop-rock/vermixed-nochmal-mit-dj-ralf-7449079755461147300.html
END:VEVENT
END:VCALENDAR