BEGIN:VCALENDAR
VERSION:2.0
PRODID:EVENTFROG//EVENT//ICAL
BEGIN:VEVENT
UID:20260419T155227Z-7449150899304302417@eventfrog.ch
DTSTAMP:20260419T155227Z
DTSTART:20260510T080000Z
DTEND:20260510T120000Z
SUMMARY:Anatolischer Muttertags-Brunch im DEM
DESCRIPTION:Am 10. Mai serviert DEM Allschwil einen anatolischen Brunch mit Tischservice von 10 bis 14 Uhr zum Muttertag.\n\nhttps://eventfrog.ch/de/p/essen-trinken/anatolischer-muttertags-brunch-im-dem-7449150899304302417.html
LOCATION:DEM Mezebar & Catering in Allschwil
GEO:47.557351;7.559847
URL:https://eventfrog.ch/de/p/essen-trinken/anatolischer-muttertags-brunch-im-dem-7449150899304302417.html
END:VEVENT
END:VCALENDAR