BEGIN:VCALENDAR
VERSION:2.0
PRODID:EVENTFROG//EVENT//ICAL
BEGIN:VEVENT
UID:20260425T155831Z-7449376123199181364@eventfrog.ch
DTSTAMP:20260425T155831Z
DTSTART:20260426T080000Z
DTEND:20260426T140000Z
SUMMARY:Dorf-Flohmarkt
DESCRIPTION:In allen "Gassen" der Kerngemeinde Bad Zwesten\n\nSonntag, 26.04.2026,  10:00 - 16:00 Uhr\n\nEntdeckt verborgene Schätze und einzigartige Fundstücke auf unserem Dorf-Flohmarkt \n\nhttps://eventfrog.ch/de/p/maerkte/flohmarkt/dorf-flohmarkt-7449376123199181364.html
LOCATION:Bad Zwesten
GEO:51.053142;9.175639
URL:https://eventfrog.ch/de/p/maerkte/flohmarkt/dorf-flohmarkt-7449376123199181364.html
END:VEVENT
END:VCALENDAR