BEGIN:VCALENDAR
VERSION:2.0
PRODID:EVENTFROG//EVENT//ICAL
BEGIN:VEVENT
UID:20260426T042059Z-7449385306917221159@eventfrog.ch
DTSTAMP:20260426T042059Z
DTSTART:20260510T080000Z
DTEND:20260510T200000Z
SUMMARY:Muttertag im Bistro St.Gallen
DESCRIPTION:Freuen Sie sich am Muttertag auf ein genussvolles Menu im Bistro St.Gallen.\n\nhttps://eventfrog.ch/de/p/essen-trinken/muttertag-im-bistro-st-gallen-7449385306917221159.html
LOCATION:Bistro St.Gallen
GEO:47.421518;9.374500
URL:https://eventfrog.ch/de/p/essen-trinken/muttertag-im-bistro-st-gallen-7449385306917221159.html
END:VEVENT
END:VCALENDAR