BEGIN:VCALENDAR
VERSION:2.0
PRODID:EVENTFROG//EVENT//ICAL
BEGIN:VEVENT
UID:20260419T190421Z-7449435731842324557@eventfrog.ch
DTSTAMP:20260419T190421Z
DTSTART:20260522T180000Z
DTEND:20260522T203000Z
SUMMARY:Band of the Week  Lestrange & KIP KASPER
DESCRIPTION:Doppelkonzert Lestrange & KIP KASPER mit Alternative- Punk und Rock. Empfehlung: Mit Spezi am Seitenrand beginnen, mit Bier im Pit enden.\n\nhttps://eventfrog.ch/de/p/konzerte/hard-rock-heavy-metal/band-of-the-week-lestrange-kip-kasper-7449435731842324557.html
LOCATION:Kulturhaus Alter Schlachthof Soest
GEO:51.565793;8.107993
URL:https://eventfrog.ch/de/p/konzerte/hard-rock-heavy-metal/band-of-the-week-lestrange-kip-kasper-7449435731842324557.html
END:VEVENT
END:VCALENDAR