BEGIN:VCALENDAR
VERSION:2.0
PRODID:EVENTFROG//EVENT//ICAL
BEGIN:VEVENT
UID:20260419T233853Z-7449509981739604732@eventfrog.ch
DTSTAMP:20260419T233853Z
DTSTART:20260502T204500Z
DTEND:20260503T020000Z
SUMMARY:MICHAEL JACKSON Tribute Party - by Beyond Ordinary
DESCRIPTION:Keine Lust auf 08/15 Partys? 40 Minuten Michael Jackson Double Tribute Show + DJ aus Zürich. 02.05. ECHO Club. Limitierte Plätze – sichere dir jetzt dein Ticket.\n\nhttps://eventfrog.ch/de/p/partys/mottoparty/michael-jackson-tribute-party-by-beyond-ordinary-7449509981739604732.html
LOCATION:ECHO Club Rankweil
GEO:47.272812;9.619948
URL:https://eventfrog.ch/de/p/partys/mottoparty/michael-jackson-tribute-party-by-beyond-ordinary-7449509981739604732.html
END:VEVENT
END:VCALENDAR