BEGIN:VCALENDAR
VERSION:2.0
PRODID:EVENTFROG//EVENT//ICAL
BEGIN:VEVENT
UID:20260419T180251Z-7449724359097191143@eventfrog.ch
DTSTAMP:20260419T180251Z
DTSTART:20260426T080000Z
DTEND:20260426T160000Z
SUMMARY:28. Olivenölabholtage am 25. + 26. April 2026 in Wilstedt
DESCRIPTION:In Wilstedt treffen sich Olivier-Familien aus Südeuropa zu den Olivenöl-Abholtagen mit Ölverkostung und Markt in familiärer Atmosphäre. Größtes Olivenölfest Deutschlands. Über 70 weitere Marktstände.\n\nhttps://eventfrog.ch/de/p/freizeit-ausfluege/sonstige-veranstaltungen/28-olivenoelabholtage-am-25-26-april-2026-in-wilstedt-7449724359097191143.html
LOCATION:Olivenöl-Abholtage der arteFakt Handelsagentur für Erzeuger-Verbraucher-Ideen eG
GEO:53.195771;9.097316
URL:https://eventfrog.ch/de/p/freizeit-ausfluege/sonstige-veranstaltungen/28-olivenoelabholtage-am-25-26-april-2026-in-wilstedt-7449724359097191143.html
END:VEVENT
END:VCALENDAR