BEGIN:VCALENDAR
VERSION:2.0
PRODID:EVENTFROG//EVENT//ICAL
BEGIN:VEVENT
UID:20260419T214447Z-7449774724907794488@eventfrog.ch
DTSTAMP:20260419T214447Z
DTSTART:20260428T133000Z
DTEND:20260428T150000Z
SUMMARY:Offene Theater- und Bewegungsgruppe in Osnabrück. Mitmachen
DESCRIPTION:Offene Theater- und Bewegungsgruppe in Osnabrück. Mitmachen, ausprobieren und kreativ sein – keine Erfahrung nötig.\n\nhttps://eventfrog.ch/de/p/theater-buehne/theater/offene-theater-und-bewegungsgruppe-in-osnabrueck-mitmachen-7449774724907794488.html
LOCATION:Lagerhalle
GEO:52.276139;8.039438
URL:https://eventfrog.ch/de/p/theater-buehne/theater/offene-theater-und-bewegungsgruppe-in-osnabrueck-mitmachen-7449774724907794488.html
END:VEVENT
END:VCALENDAR