BEGIN:VCALENDAR
VERSION:2.0
PRODID:EVENTFROG//EVENT//ICAL
BEGIN:VEVENT
UID:20260419T163349Z-7449776993321635035@eventfrog.ch
DTSTAMP:20260419T163349Z
DTSTART:20260614T110000Z
DTEND:20260614T200000Z
SUMMARY:Isartaler Almrausch
DESCRIPTION:Am 14.06.2026 gibt es Isartaler Almrausch mit 3-Gänge-Menü, Live-Musik von Gerry & Gary und Aftershow-Party mit DJ Beatrix Löw Beer.\n\nhttps://eventfrog.ch/de/p/diverses/isartaler-almrausch-7449776993321635035.html
LOCATION:Rabenwirt
GEO:48.056456;11.523623
URL:https://eventfrog.ch/de/p/diverses/isartaler-almrausch-7449776993321635035.html
END:VEVENT
END:VCALENDAR