BEGIN:VCALENDAR
VERSION:2.0
PRODID:EVENTFROG//EVENT//ICAL
BEGIN:VEVENT
UID:20260419T224555Z-7449791305939439296@eventfrog.ch
DTSTAMP:20260419T224555Z
DTSTART:20260426T180000Z
DTEND:20260426T200000Z
SUMMARY:Jazz-Konzert mit der Dreamland Swing Band
DESCRIPTION:Die "Dreamland Swing Band" spielt dezenten Swing, den Jazz der 30er Jahre. Zu hören sind überwiegend die Standards dieser Zeit.\n\n\nhttps://eventfrog.ch/de/p/konzerte/jazz-blues/jazz-konzert-mit-der-dreamland-swing-band-7449791305939439296.html
LOCATION:Zimmer 16
GEO:52.565446;13.401366
URL:https://eventfrog.ch/de/p/konzerte/jazz-blues/jazz-konzert-mit-der-dreamland-swing-band-7449791305939439296.html
END:VEVENT
END:VCALENDAR