BEGIN:VCALENDAR
VERSION:2.0
PRODID:EVENTFROG//EVENT//ICAL
BEGIN:VEVENT
UID:20260420T073418Z-7449814897951526190@eventfrog.ch
DTSTAMP:20260420T073418Z
DTSTART:20260605T110000Z
DTEND:20260605T150000Z
SUMMARY:SOUNDWERKSTATT
DESCRIPTION:Jeden Freitag von 13 bis 17 Uhr bietet der Musikübungsraum im Kulturhaus Kindern und Jugendlichen von 8 bis 18 Jahren Raum zum Musizieren.\n\nhttps://eventfrog.ch/de/p/kinderveranstaltungen/familienveranstaltungen/soundwerkstatt-7449814897951526190.html
LOCATION:Kulturhaus Milbertshofen
GEO:48.182056;11.567207
URL:https://eventfrog.ch/de/p/kinderveranstaltungen/familienveranstaltungen/soundwerkstatt-7449814897951526190.html
END:VEVENT
END:VCALENDAR