BEGIN:VCALENDAR
VERSION:2.0
PRODID:EVENTFROG//EVENT//ICAL
BEGIN:VEVENT
UID:20260425T135335Z-7449829214683942360@eventfrog.ch
DTSTAMP:20260425T135335Z
DTSTART:20260530T180000Z
DTEND:20260530T200000Z
SUMMARY:NOIMAN - Alles NOI macht der Mai!
DESCRIPTION:Sie sind Kinder der 90er - Von Pop über Funk bis Rock, es ist für jeden etwas dabei.\n\n\nhttps://eventfrog.ch/de/p/konzerte/pop-rock/noiman-alles-noi-macht-der-mai-7449829214683942360.html
LOCATION:ART Stalker
GEO:52.509270;13.302320
URL:https://eventfrog.ch/de/p/konzerte/pop-rock/noiman-alles-noi-macht-der-mai-7449829214683942360.html
END:VEVENT
END:VCALENDAR