BEGIN:VCALENDAR
VERSION:2.0
PRODID:EVENTFROG//EVENT//ICAL
BEGIN:VEVENT
UID:20260424T051554Z-7449913191583202521@eventfrog.ch
DTSTAMP:20260424T051554Z
DTSTART:20260425T060000Z
DTEND:20260425T140000Z
SUMMARY:Frühlingsausstellung Wiedlisbach
DESCRIPTION:Unsere Frühlingsausstellung zeigt Blumen, Pflanzen, Küchenkräuter, Solarlampen und viele weitere schöne Dekoideen fürs Zuhause.\n\nhttps://eventfrog.ch/de/p/kunst-ausstellungen/ausstellung/fruehlingsausstellung-wiedlisbach-7449913191583202521.html
LOCATION:Blumen Tschan
GEO:47.252658;7.648607
URL:https://eventfrog.ch/de/p/kunst-ausstellungen/ausstellung/fruehlingsausstellung-wiedlisbach-7449913191583202521.html
END:VEVENT
END:VCALENDAR