BEGIN:VCALENDAR
VERSION:2.0
PRODID:EVENTFROG//EVENT//ICAL
BEGIN:VEVENT
UID:20260424T095900Z-7449934794618598731@eventfrog.ch
DTSTAMP:20260424T095900Z
DTSTART:20261231T210000Z
DTEND:20270101T040000Z
SUMMARY:Silvesterparty
DESCRIPTION:Zum letzten Mal Silvester in der alten Remise.\n\nhttps://eventfrog.ch/de/p/partys/silvesterparty-7449934794618598731.html
LOCATION:Gare de Lion
GEO:47.461330;9.032780
URL:https://eventfrog.ch/de/p/partys/silvesterparty-7449934794618598731.html
END:VEVENT
END:VCALENDAR