BEGIN:VCALENDAR
VERSION:2.0
PRODID:EVENTFROG//EVENT//ICAL
BEGIN:VEVENT
UID:20260420T002854Z-7449940987571347523@eventfrog.ch
DTSTAMP:20260420T002854Z
DTSTART:20260507T220000Z
SUMMARY:Santa Discoteca
DESCRIPTION:Italo, Funk & Disco.\n\nhttps://eventfrog.ch/de/p/partys/santa-discoteca-7449940987571347523.html
LOCATION:Palace
GEO:47.426620;9.373120
URL:https://eventfrog.ch/de/p/partys/santa-discoteca-7449940987571347523.html
END:VEVENT
END:VCALENDAR