BEGIN:VCALENDAR
VERSION:2.0
PRODID:EVENTFROG//EVENT//ICAL
BEGIN:VEVENT
UID:20260425T153713Z-7450077493439031396@eventfrog.ch
DTSTAMP:20260425T153713Z
DTSTART:20260620T140000Z
DTEND:20260620T160000Z
SUMMARY:Hjördis Levnajic - Rafiki
DESCRIPTION:Hjördis Levnajic erzählt von ihren Afrika-Abenteuern und ihrem Buch «Rafiki» und lädt zum Gespräch und Austausch ein.\n\nhttps://eventfrog.ch/de/p/theater-buehne/lesung/hjoerdis-levnajic-rafiki-7450077493439031396.html
LOCATION:BücherBiene
GEO:53.693970;10.027358
URL:https://eventfrog.ch/de/p/theater-buehne/lesung/hjoerdis-levnajic-rafiki-7450077493439031396.html
END:VEVENT
END:VCALENDAR