BEGIN:VCALENDAR
VERSION:2.0
PRODID:EVENTFROG//EVENT//ICAL
BEGIN:VEVENT
UID:20260419T195948Z-7450113448170509712@eventfrog.ch
DTSTAMP:20260419T195948Z
DTSTART:20260510T090000Z
DTEND:20260510T160000Z
SUMMARY:Insectophobie Riesenspinnen & Insekten Ausstellung
DESCRIPTION:Das Original Insectophobie\n\nLebende Riesenspinnen und Insekten Ausstellung\n\nMit dabei die größten Vogelspinnen der Welt und Über 500 Exemplaren\n\nhttps://eventfrog.ch/de/p/messen/tierausstellung/insectophobie-riesenspinnen-insekten-ausstellung-7450113448170509712.html
LOCATION:Messe VS Schwenningen
GEO:48.047953;8.537294
URL:https://eventfrog.ch/de/p/messen/tierausstellung/insectophobie-riesenspinnen-insekten-ausstellung-7450113448170509712.html
END:VEVENT
END:VCALENDAR