BEGIN:VCALENDAR
VERSION:2.0
PRODID:EVENTFROG//EVENT//ICAL
BEGIN:VEVENT
UID:20260419T163407Z-7450141588368417605@eventfrog.ch
DTSTAMP:20260419T163407Z
DTSTART:20260526T170000Z
DTEND:20260526T180000Z
SUMMARY:Dauerstress? Mentale Klarheit trotz voller Verantwortung
DESCRIPTION:Onlinekurs über 6 Wochen vermittelt die Coué-Methode zur bewussten Gedankenführung für mehr Ruhe und Selbstbestimmung.\n\nhttps://eventfrog.ch/de/p/gesundheit-spiritualitaet/gesundheit-wohlbefinden/dauerstress-mentale-klarheit-trotz-voller-verantwortung-7450141588368417605.html
LOCATION:Raus aus dem Dauerstress
URL:https://eventfrog.ch/de/p/gesundheit-spiritualitaet/gesundheit-wohlbefinden/dauerstress-mentale-klarheit-trotz-voller-verantwortung-7450141588368417605.html
END:VEVENT
END:VCALENDAR