BEGIN:VCALENDAR
VERSION:2.0
PRODID:EVENTFROG//EVENT//ICAL
BEGIN:VEVENT
UID:20260419T170544Z-7450166583542954507@eventfrog.ch
DTSTAMP:20260419T170544Z
DTSTART:20260613T170000Z
SUMMARY:DINO BRANDÃO - im Mühligarten
DESCRIPTION:Dino Brandão kehrt für seine allererste Headline-Show im idyllischen Mühligarten nach Rubigen zurück, olé!\n\nhttps://eventfrog.ch/de/p/konzerte/singer-songwriter/dino-brandao-im-muehligarten-7450166583542954507.html
LOCATION:Mühle Hunziken
GEO:46.890789;7.541809
URL:https://eventfrog.ch/de/p/konzerte/singer-songwriter/dino-brandao-im-muehligarten-7450166583542954507.html
END:VEVENT
END:VCALENDAR