BEGIN:VCALENDAR
VERSION:2.0
PRODID:EVENTFROG//EVENT//ICAL
BEGIN:VEVENT
UID:20260420T071459Z-7450170801607717484@eventfrog.ch
DTSTAMP:20260420T071459Z
DTSTART:20260513T203000Z
SUMMARY:peinlo pop party
DESCRIPTION:Peinlo Pop feiert Throwback-Bops wie Since U Been Gone und Unwritten und FYP-Hymnen wie Lushlife und Ophelia. Dress extra. Sing louder. Slay harder. PERIOD\n\nhttps://eventfrog.ch/de/p/partys/pop-rock/peinlo-pop-party-7450170801607717484.html
LOCATION:KUZ Kreuz
GEO:50.564335;9.659381
URL:https://eventfrog.ch/de/p/partys/pop-rock/peinlo-pop-party-7450170801607717484.html
END:VEVENT
END:VCALENDAR