BEGIN:VCALENDAR
VERSION:2.0
PRODID:EVENTFROG//EVENT//ICAL
BEGIN:VEVENT
UID:20260419T144348Z-7450216209964865428@eventfrog.ch
DTSTAMP:20260419T144348Z
DTSTART:20260802T173000Z
DTEND:20260802T210000Z
SUMMARY:Team Scheiße x Fenster zum Hof-Open Air 2026
DESCRIPTION:Musikmaschine präsentiert: Das Fenster Zum Hof-Open Air in Mainz bietet vom 24.7.2026 bis 23.8.2026 zwölf Konzerte verschiedener Pop-Genres in der außergewöhnlichsten Sommerlocation der Stadt. \n\nhttps://eventfrog.ch/de/p/konzerte/punk/team-scheisse-x-fenster-zum-hof-open-air-2026-7450216209964865428.html
LOCATION:Landesmuseum Mainz (Festivalgelände im Innenhof)
GEO:50.003253;8.267636
URL:https://eventfrog.ch/de/p/konzerte/punk/team-scheisse-x-fenster-zum-hof-open-air-2026-7450216209964865428.html
END:VEVENT
END:VCALENDAR