BEGIN:VCALENDAR
VERSION:2.0
PRODID:EVENTFROG//EVENT//ICAL
BEGIN:VEVENT
UID:20260420T034830Z-7450265063322074199@eventfrog.ch
DTSTAMP:20260420T034830Z
DTSTART:20260509T080000Z
DTEND:20260510T130000Z
SUMMARY:Starterseminar – Dein Einstieg bei Fin2gether
DESCRIPTION:Fin2gether bietet zweitägige Seminare für Einsteiger und Fortgeschrittene zur Vermittlung von Wissen und Vertriebsstrategien an.\n\nhttps://eventfrog.ch/de/p/fuehrungen-vortraege/business-treff/starterseminar-dein-einstieg-bei-fin2gether-7450265063322074199.html
LOCATION:Avalon Hotelpark Königshof
GEO:52.255005;10.803079
URL:https://eventfrog.ch/de/p/fuehrungen-vortraege/business-treff/starterseminar-dein-einstieg-bei-fin2gether-7450265063322074199.html
END:VEVENT
END:VCALENDAR