BEGIN:VCALENDAR
VERSION:2.0
PRODID:EVENTFROG//EVENT//ICAL
BEGIN:VEVENT
UID:20260419T125957Z-7450297767363117083@eventfrog.ch
DTSTAMP:20260419T125957Z
DTSTART:20260516T073000Z
DTEND:20260517T150000Z
SUMMARY:Aquarell- und Pastellmalen im Vergleich
DESCRIPTION:Am 16./17.05 von 9:30-17 Uhr lernen Teilnehmende Materialkunde sowie Luft- und Linearperspektive mit Praxis.\n\nhttps://eventfrog.ch/de/p/kurse-seminare/kunst-kultur/aquarell-und-pastellmalen-im-vergleich-7450297767363117083.html
LOCATION:St. Gallerstrasse 42f
GEO:47.497590;8.739471
URL:https://eventfrog.ch/de/p/kurse-seminare/kunst-kultur/aquarell-und-pastellmalen-im-vergleich-7450297767363117083.html
END:VEVENT
END:VCALENDAR