BEGIN:VCALENDAR
VERSION:2.0
PRODID:EVENTFROG//EVENT//ICAL
BEGIN:VEVENT
UID:20260420T002853Z-7450303517791653529@eventfrog.ch
DTSTAMP:20260420T002853Z
DTSTART:20260504T173000Z
SUMMARY:Zangha (Winti)
DESCRIPTION:Zangha (Winti)\n\nhttps://eventfrog.ch/de/p/konzerte/zangha-winti-7450303517791653529.html
LOCATION:Portier
GEO:47.495799;8.718806
URL:https://eventfrog.ch/de/p/konzerte/zangha-winti-7450303517791653529.html
END:VEVENT
END:VCALENDAR