BEGIN:VCALENDAR
VERSION:2.0
PRODID:EVENTFROG//EVENT//ICAL
BEGIN:VEVENT
UID:20260424T081834Z-7450415453673939341@eventfrog.ch
DTSTAMP:20260424T081834Z
DTSTART:20260604T160000Z
DTEND:20260604T200000Z
SUMMARY:Bänklitalk Live
DESCRIPTION:Am 04.06.2026 diskutieren Gabor Gaspar und Team Dübendorf auf der Dachterrasse live aktuelle Finanzthemen mit Publikum.\n\nhttps://eventfrog.ch/de/p/essen-trinken/baenklitalk-live-7450415453673939341.html
LOCATION:ATG Allfinanz & Treuhand Group
GEO:47.402630;8.616361
URL:https://eventfrog.ch/de/p/essen-trinken/baenklitalk-live-7450415453673939341.html
END:VEVENT
END:VCALENDAR