BEGIN:VCALENDAR
VERSION:2.0
PRODID:EVENTFROG//EVENT//ICAL
BEGIN:VEVENT
UID:20260419T144415Z-7450455588109052356@eventfrog.ch
DTSTAMP:20260419T144415Z
DTSTART:20260822T130000Z
DTEND:20260822T180000Z
SUMMARY:Familienfest
DESCRIPTION:Kein Eintritt\nSpaß\nFun\nGrillen\nGetränke \nFamilie\nFreunde\n\n\nhttps://eventfrog.ch/de/p/kinderveranstaltungen/familienveranstaltungen/familienfest-7450455588109052356.html
LOCATION:Naherholungsgebiet Gerloser Häuschen
GEO:50.588259;9.669265
URL:https://eventfrog.ch/de/p/kinderveranstaltungen/familienveranstaltungen/familienfest-7450455588109052356.html
END:VEVENT
END:VCALENDAR