BEGIN:VCALENDAR
VERSION:2.0
PRODID:EVENTFROG//EVENT//ICAL
BEGIN:VEVENT
UID:20260419T205715Z-7450457101757881195@eventfrog.ch
DTSTAMP:20260419T205715Z
DTSTART:20260511T173000Z
DTEND:20260511T200000Z
SUMMARY:Strickkino - Die Wilden Maschen
DESCRIPTION:Das zweite Strickkino in der Grabenhalle zeigt den Film «Wunderschön» bei gedimmtem Licht; Stricken, Austausch und Bar ab 18 Uhr. Filmbeginn um 19:30.\n\nhttps://eventfrog.ch/de/p/diverses/strickkino-die-wilden-maschen-7450457101757881195.html
LOCATION:Grabenhalle
GEO:47.427340;9.374160
URL:https://eventfrog.ch/de/p/diverses/strickkino-die-wilden-maschen-7450457101757881195.html
END:VEVENT
END:VCALENDAR