BEGIN:VCALENDAR
VERSION:2.0
PRODID:EVENTFROG//EVENT//ICAL
BEGIN:VEVENT
UID:20260419T181121Z-7450476581754002404@eventfrog.ch
DTSTAMP:20260419T181121Z
DTSTART:20260505T170000Z
DTEND:20260505T190000Z
SUMMARY:Immobilien verkaufen ohne Makler
DESCRIPTION:Informationsveranstaltung für Immobilienbesitzer aus Leipzig und Umgebung\nOptionen im Alter verstehen, Chancen erkennen, sicher entscheiden\n\nSie besitzen eine Immobilie und fragen sich, welche Möglich\n\nhttps://eventfrog.ch/de/p/kurse-seminare/sonstige-kurse-seminare/immobilien-verkaufen-ohne-makler-7450476581754002404.html
LOCATION:Nordpl. 4
GEO:51.352022;12.373159
URL:https://eventfrog.ch/de/p/kurse-seminare/sonstige-kurse-seminare/immobilien-verkaufen-ohne-makler-7450476581754002404.html
END:VEVENT
END:VCALENDAR