BEGIN:VCALENDAR
VERSION:2.0
PRODID:EVENTFROG//EVENT//ICAL
BEGIN:VEVENT
UID:20260424T072140Z-7450517616458776162@eventfrog.ch
DTSTAMP:20260424T072140Z
DTSTART:20260620T160000Z
DTEND:20260620T173000Z
SUMMARY:A Million Dreams - Ein Musical der SINGSCHULE OBERWALLIS
DESCRIPTION:Die Singschule Oberwallis präsentiert mit allen Chorstufen das Musical «A Million Dreams» über Träume, Hoffnung und Liebe.\n\nhttps://eventfrog.ch/de/p/konzerte/chor/a-million-dreams-ein-musical-der-singschule-oberwallis-7450517616458776162.html
LOCATION:Theatersaal Kollegium
GEO:46.314661;7.993449
URL:https://eventfrog.ch/de/p/konzerte/chor/a-million-dreams-ein-musical-der-singschule-oberwallis-7450517616458776162.html
END:VEVENT
END:VCALENDAR