BEGIN:VCALENDAR
VERSION:2.0
PRODID:EVENTFROG//EVENT//ICAL
BEGIN:VEVENT
UID:20260420T041002Z-7450519125682570257@eventfrog.ch
DTSTAMP:20260420T041002Z
DTSTART:20270417T080000Z
DTEND:20270417T140000Z
SUMMARY:17. Jobmesse Berlin - zweiter Messetag
DESCRIPTION:Die Jobmesse Berlin im Olympiastadion bietet direkten Kontakt zu Arbeitgebern für Karrieremöglichkeiten in Ausbildung, Studium oder Job. \n\nhttps://eventfrog.ch/de/p/messen/messe/17-jobmesse-berlin-zweiter-messetag-7450519125682570257.html
LOCATION:Olympiastadion Berlin
GEO:52.514702;13.239467
URL:https://eventfrog.ch/de/p/messen/messe/17-jobmesse-berlin-zweiter-messetag-7450519125682570257.html
END:VEVENT
END:VCALENDAR