BEGIN:VCALENDAR
VERSION:2.0
PRODID:EVENTFROG//EVENT//ICAL
BEGIN:VEVENT
UID:20260419T175156Z-7450539806071736479@eventfrog.ch
DTSTAMP:20260419T175156Z
DTSTART:20260726T130000Z
SUMMARY:Der Zauberer von Oz
DESCRIPTION:Der berühmte Kinderbuchklassiker hat in seiner 125-jährigen Geschichte die Kinoleinwände und auch die Theaterbühnen der Welt erobert.\n\nhttps://eventfrog.ch/de/p/theater-buehne/theater/der-zauberer-von-oz-7450539806071736479.html
LOCATION:Theater Schloss Maßbach - Unterfränkische Landesbühne
GEO:50.181256;10.281103
URL:https://eventfrog.ch/de/p/theater-buehne/theater/der-zauberer-von-oz-7450539806071736479.html
END:VEVENT
END:VCALENDAR