BEGIN:VCALENDAR
VERSION:2.0
PRODID:EVENTFROG//EVENT//ICAL
BEGIN:VEVENT
UID:20260426T035912Z-7450547467265782470@eventfrog.ch
DTSTAMP:20260426T035912Z
DTSTART:20260515T130000Z
SUMMARY:Luzerner Geschichte in 20 Minuten
DESCRIPTION:Von den Anfängen der Stadt Luzern zu revolutionären Zeiten bis zum Beginn des Massentourismus.\n\nhttps://eventfrog.ch/de/p/fuehrungen-vortraege/fuehrung/luzerner-geschichte-in-20-minuten-7450547467265782470.html
LOCATION:Museum Luzern
GEO:47.051683;8.301061
URL:https://eventfrog.ch/de/p/fuehrungen-vortraege/fuehrung/luzerner-geschichte-in-20-minuten-7450547467265782470.html
END:VEVENT
END:VCALENDAR