BEGIN:VCALENDAR
VERSION:2.0
PRODID:EVENTFROG//EVENT//ICAL
BEGIN:VEVENT
UID:20260419T180153Z-7450553551858734598@eventfrog.ch
DTSTAMP:20260419T180153Z
DTSTART:20260502T090000Z
DTEND:20260502T180000Z
SUMMARY:Ausstellung von Chris Cabrim zur Kunstroute Ehrenfeld
DESCRIPTION:Kunstroute Ehrenfeld (2.–3. Mai, 11–20 Uhr): Chris Cabrim zeigt „Other Worlds“ im Electric Eel Tattoo Studio, Köln – Galaxies, Primal Bodies sowie Fragments & Imprints. Hansemannstr. 1.\n\nhttps://eventfrog.ch/de/p/kunst-ausstellungen/ausstellung/ausstellung-von-chris-cabrim-zur-kunstroute-ehrenfeld-7450553551858734598.html
LOCATION:Atelier im Electric Eel Tattoo Studio
GEO:50.949923;6.917966
URL:https://eventfrog.ch/de/p/kunst-ausstellungen/ausstellung/ausstellung-von-chris-cabrim-zur-kunstroute-ehrenfeld-7450553551858734598.html
END:VEVENT
END:VCALENDAR