BEGIN:VCALENDAR
VERSION:2.0
PRODID:EVENTFROG//EVENT//ICAL
BEGIN:VEVENT
UID:20260419T152752Z-7450574212530476682@eventfrog.ch
DTSTAMP:20260419T152752Z
DTSTART:20260423T160000Z
DTEND:20260423T173000Z
SUMMARY:Colloquium Fundamentale im Sommersemester 2026
DESCRIPTION:Der Vortrag zeigt, wie organische Solarzellen durch neue Einsatzmöglichkeiten und geringeren Ressourcenverbrauch zur Energiewende beitragen können.\n\nhttps://eventfrog.ch/de/p/wissenschaft-und-technik/colloquium-fundamentale-im-sommersemester-2026-7450574212530476682.html
LOCATION:KIT InformatiKOM 1
GEO:49.011301;8.418640
URL:https://eventfrog.ch/de/p/wissenschaft-und-technik/colloquium-fundamentale-im-sommersemester-2026-7450574212530476682.html
END:VEVENT
END:VCALENDAR