BEGIN:VCALENDAR
VERSION:2.0
PRODID:EVENTFROG//EVENT//ICAL
BEGIN:VEVENT
UID:20260419T140818Z-7450633335720645461@eventfrog.ch
DTSTAMP:20260419T140818Z
DTSTART:20260528T173000Z
DTEND:20260528T184500Z
SUMMARY:Lu Jong - Meditation in Bewegung
DESCRIPTION:Lu Jong - Meditation in Bewegung \nverbindet Bewegung, Haltung und Atem. Tibetische Bewegungslehre jeden Donnerstag 19:30-20:45 im Körpersinn Bülach, auch für Einsteiger geeignet.\n\nhttps://eventfrog.ch/de/p/gesundheit-spiritualitaet/gesundheit-wohlbefinden/lu-jong-meditation-in-bewegung-7450633335720645461.html
LOCATION:Körpersinn, www.koerper-sinn.ch, Bülach, CH
GEO:47.520420;8.539527
URL:https://eventfrog.ch/de/p/gesundheit-spiritualitaet/gesundheit-wohlbefinden/lu-jong-meditation-in-bewegung-7450633335720645461.html
END:VEVENT
END:VCALENDAR