BEGIN:VCALENDAR
VERSION:2.0
PRODID:EVENTFROG//EVENT//ICAL
BEGIN:VEVENT
UID:20260419T201314Z-7450665221910198463@eventfrog.ch
DTSTAMP:20260419T201314Z
DTSTART:20260708T120000Z
DTEND:20260708T140000Z
SUMMARY:Offene Gartennachmittag für Kinder
DESCRIPTION:Gemeinsam Gärtnern & den Naturgarten entdecken, mit z'Vieri.\n\nhttps://eventfrog.ch/de/p/diverses/offene-gartennachmittag-fuer-kinder-7450665221910198463.html
LOCATION:Areal Bach
GEO:47.435348;9.392530
URL:https://eventfrog.ch/de/p/diverses/offene-gartennachmittag-fuer-kinder-7450665221910198463.html
END:VEVENT
END:VCALENDAR