BEGIN:VCALENDAR
VERSION:2.0
PRODID:EVENTFROG//EVENT//ICAL
BEGIN:VEVENT
UID:20260424T082826Z-7450667501162090452@eventfrog.ch
DTSTAMP:20260424T082826Z
DTSTART:20260503T150000Z
DTEND:20260503T163000Z
SUMMARY:INGIRO in Concert
DESCRIPTION:INGIRO in Concert\n\nhttps://eventfrog.ch/de/p/konzerte/ingiro-in-concert-7450667501162090452.html
LOCATION:Ref. Kirche Oberwinterthur, St. Arbogast
GEO:47.507090;8.755730
URL:https://eventfrog.ch/de/p/konzerte/ingiro-in-concert-7450667501162090452.html
END:VEVENT
END:VCALENDAR