BEGIN:VCALENDAR
VERSION:2.0
PRODID:EVENTFROG//EVENT//ICAL
BEGIN:VEVENT
UID:20260425T135349Z-7450667545193902792@eventfrog.ch
DTSTAMP:20260425T135349Z
DTSTART:20260827T153000Z
DTEND:20260827T163000Z
SUMMARY:After Work Concert: Christoph Sietzen
DESCRIPTION:After Work Concert: Christoph Sietzen\n\nhttps://eventfrog.ch/de/p/konzerte/after-work-concert-christoph-sietzen-7450667545193902792.html
LOCATION:Vaduz Städtle
GEO:47.140405;9.522681
URL:https://eventfrog.ch/de/p/konzerte/after-work-concert-christoph-sietzen-7450667545193902792.html
END:VEVENT
END:VCALENDAR