BEGIN:VCALENDAR
VERSION:2.0
PRODID:EVENTFROG//EVENT//ICAL
BEGIN:VEVENT
UID:20260419T140816Z-7450868851233829560@eventfrog.ch
DTSTAMP:20260419T140816Z
DTSTART:20260608T164500Z
DTEND:20260608T180000Z
SUMMARY:Lu Jong - Meditation in Bewegung
DESCRIPTION:Lu Jong - Meditation in Bewegung \nverbindet Bewegung, Haltung und Atem. Tibetische Bewegungslehre jeden Donnerstag 19:30-20:45 im Körpersinn Bülach, auch für Einsteiger geeignet.\n\nhttps://eventfrog.ch/de/p/gesundheit-spiritualitaet/gesundheit-wohlbefinden/lu-jong-meditation-in-bewegung-7450868851233829560.html
LOCATION:Körpersinn, www.koerper-sinn.ch, Bülach, CH
GEO:47.520420;8.539527
URL:https://eventfrog.ch/de/p/gesundheit-spiritualitaet/gesundheit-wohlbefinden/lu-jong-meditation-in-bewegung-7450868851233829560.html
END:VEVENT
END:VCALENDAR