BEGIN:VCALENDAR
VERSION:2.0
PRODID:EVENTFROG//EVENT//ICAL
BEGIN:VEVENT
UID:20260420T122847Z-7450874495378661367@eventfrog.ch
DTSTAMP:20260420T122847Z
DTSTART:20260701T150000Z
DTEND:20260701T170000Z
SUMMARY:Achtsamer Silentwalk am Abend - Be touched by Nature
DESCRIPTION:Waldbaden-Kurs: Kurzurlaub für Körper, Geist & Seele, ideal für Shinrin Yoku-Neulinge und Gesundheitsbewusste. Innehalten, Naturverbundenheit erleben, zur Ruhe kommen und Energie tanken.\n\nhttps://eventfrog.ch/de/p/gesundheit-spiritualitaet/gesundheit-wohlbefinden/achtsamer-silentwalk-am-abend-be-touched-by-nature-7450874495378661367.html
LOCATION:Grillplatz Vitaparcours Entlisbergwald
GEO:47.334678;8.523438
URL:https://eventfrog.ch/de/p/gesundheit-spiritualitaet/gesundheit-wohlbefinden/achtsamer-silentwalk-am-abend-be-touched-by-nature-7450874495378661367.html
END:VEVENT
END:VCALENDAR