BEGIN:VCALENDAR
VERSION:2.0
PRODID:EVENTFROG//EVENT//ICAL
BEGIN:VEVENT
UID:20260419T191643Z-7450883002807127532@eventfrog.ch
DTSTAMP:20260419T191643Z
DTSTART:20260827T161500Z
DTEND:20260827T204500Z
SUMMARY:Meersburg by Night
DESCRIPTION:Geniessen Sie eine Hin- und Rückfahrt zu einem gemütlichen Aufenthalt in Meersburg.\n\nhttps://eventfrog.ch/de/p/freizeit-ausfluege/ausfahrt/meersburg-by-night-7450883002807127532.html
LOCATION:Schweizerische Bodensee-Schifffahrt AG
GEO:47.564596;9.380165
URL:https://eventfrog.ch/de/p/freizeit-ausfluege/ausfahrt/meersburg-by-night-7450883002807127532.html
END:VEVENT
END:VCALENDAR