BEGIN:VCALENDAR
VERSION:2.0
PRODID:EVENTFROG//EVENT//ICAL
BEGIN:VEVENT
UID:20260419T164607Z-7450893937827438060@eventfrog.ch
DTSTAMP:20260419T164607Z
DTSTART:20260425T023000Z
DTEND:20260425T053000Z
SUMMARY:Blaue Stunde auf dem Energieberg Georgswerder
DESCRIPTION:Erlebt den Energieberg zur Blauen Stunde mit Sonnenaufgang, Fotowettbewerb und optionaler Vogelführung. Kostenlos, aber nur mit Anmeldung. Begrenzte Plätze für die Führung.\n\nhttps://eventfrog.ch/de/p/freizeit-ausfluege/tier-und-naturerlebnisse/blaue-stunde-auf-dem-energieberg-georgswerder-7450893937827438060.html
LOCATION:Energieberg Georgswerder
GEO:53.513011;10.028887
URL:https://eventfrog.ch/de/p/freizeit-ausfluege/tier-und-naturerlebnisse/blaue-stunde-auf-dem-energieberg-georgswerder-7450893937827438060.html
END:VEVENT
END:VCALENDAR